BEGIN:VCALENDAR
VERSION:2.0
PRODID:-//ChamberMaster//Event Calendar 2.0//EN
METHOD:PUBLISH
X-PUBLISHED-TTL:P3D
REFRESH-INTERVAL:P3D
CALSCALE:GREGORIAN
BEGIN:VEVENT
DTSTART:20221214T153000Z
DTEND:20221214T163000Z
X-MICROSOFT-CDO-ALLDAYEVENT:FALSE
SUMMARY:Board of Directors Meeting
DESCRIPTION:The Savage Chamber Board of Directors will hold their December meeting on Wednesday\, December 14 at Savage City Hall.\n\n\n\nPlease contact Anne Masis with any questions.
X-ALT-DESC;FMTTYPE=text/html:The Savage Chamber Board of Directors will hold their December meeting on Wednesday\, December 14 at Savage City Hall.<br />\n<br />\nPlease contact Anne Masis with any questions.
LOCATION:Savage City Hall 6000 McColl Drive\, Savage
UID:e.1746.285984
SEQUENCE:3
DTSTAMP:20260421T171323Z
URL:https://business.savagechamber.com/events/details/board-of-directors-meeting-12-14-2022-285984
END:VEVENT

END:VCALENDAR
