BEGIN:VCALENDAR
VERSION:2.0
PRODID:-//ChamberMaster//Event Calendar 2.0//EN
METHOD:PUBLISH
X-PUBLISHED-TTL:P3D
REFRESH-INTERVAL:P3D
CALSCALE:GREGORIAN
BEGIN:VEVENT
DTSTART:20220818T183000Z
DTEND:20220818T193000Z
X-MICROSOFT-CDO-ALLDAYEVENT:FALSE
SUMMARY:Ambassador Pop-In Visits
DESCRIPTION:Ambassador Meeting\n\n\n\nThe Ambassador Committee will meet on the 3rd Thursday of each month at 1:30pm at various locations.  For more information on this committee or to have the Savage Chamber Ambassadors visit your business\, contact Anne Masis at anne@savagechamber.com or our Ambassador Chair\, Hillary Slama at hillary.slama@engelvoelkers.com.
X-ALT-DESC;FMTTYPE=text/html:Ambassador Meeting<br />\n<br />\nThe Ambassador Committee will meet on the 3rd Thursday of each month at 1:30pm at various locations.&nbsp\; For more information on this committee or to have the Savage Chamber Ambassadors visit your business\, contact Anne Masis at anne@savagechamber.com or our Ambassador Chair\, Hillary Slama at hillary.slama@engelvoelkers.com.
LOCATION:Locations vary. Contact the Savage Chamber to find this month's meeting place!
UID:e.1746.286005
SEQUENCE:3
DTSTAMP:20260426T004621Z
URL:https://business.savagechamber.com/events/details/ambassador-pop-in-visits-08-18-2022-286005
END:VEVENT

END:VCALENDAR
